BEGIN:VCALENDAR
VERSION:2.0
PRODID:-//Gemeinde Berngau - ECPv6.15.18//NONSGML v1.0//EN
CALSCALE:GREGORIAN
METHOD:PUBLISH
X-ORIGINAL-URL:https://berngau.de
X-WR-CALDESC:Veranstaltungen für Gemeinde Berngau
REFRESH-INTERVAL;VALUE=DURATION:PT1H
X-Robots-Tag:noindex
X-PUBLISHED-TTL:PT1H
BEGIN:VTIMEZONE
TZID:Europe/Berlin
BEGIN:DAYLIGHT
TZOFFSETFROM:+0100
TZOFFSETTO:+0200
TZNAME:CEST
DTSTART:20240331T010000
END:DAYLIGHT
BEGIN:STANDARD
TZOFFSETFROM:+0200
TZOFFSETTO:+0100
TZNAME:CET
DTSTART:20241027T010000
END:STANDARD
BEGIN:DAYLIGHT
TZOFFSETFROM:+0100
TZOFFSETTO:+0200
TZNAME:CEST
DTSTART:20250330T010000
END:DAYLIGHT
BEGIN:STANDARD
TZOFFSETFROM:+0200
TZOFFSETTO:+0100
TZNAME:CET
DTSTART:20251026T010000
END:STANDARD
BEGIN:DAYLIGHT
TZOFFSETFROM:+0100
TZOFFSETTO:+0200
TZNAME:CEST
DTSTART:20260329T010000
END:DAYLIGHT
BEGIN:STANDARD
TZOFFSETFROM:+0200
TZOFFSETTO:+0100
TZNAME:CET
DTSTART:20261025T010000
END:STANDARD
BEGIN:DAYLIGHT
TZOFFSETFROM:+0100
TZOFFSETTO:+0200
TZNAME:CEST
DTSTART:20270328T010000
END:DAYLIGHT
BEGIN:STANDARD
TZOFFSETFROM:+0200
TZOFFSETTO:+0100
TZNAME:CET
DTSTART:20271031T010000
END:STANDARD
END:VTIMEZONE
BEGIN:VEVENT
DTSTART;VALUE=DATE:20260327
DTEND;VALUE=DATE:20260328
DTSTAMP:20260424T203821
CREATED:20240105T090745Z
LAST-MODIFIED:20251208T101700Z
UID:10000583-1774569600-1774655999@berngau.de
SUMMARY:Jahreshauptversammlung - FW Freie Wähler
DESCRIPTION:19:30 Uhr
URL:https://berngau.de/veranstaltung/jahreshauptversammlung-fw-freie-waehler/2026-03-27/
LOCATION:Sportheim Berngau\, Sportheimstraße 1\, Berngau\, Bayern\, 92361\, Germany
CATEGORIES:Politik,Veranstaltungen
ORGANIZER;CN="FW Freie W%C3%A4hler":MAILTO:info@fw-berngau.de
END:VEVENT
BEGIN:VEVENT
DTSTART;VALUE=DATE:20260302
DTEND;VALUE=DATE:20260303
DTSTAMP:20260424T203821
CREATED:20230323T100341Z
LAST-MODIFIED:20251203T153535Z
UID:10000848-1772474400-1772488800@berngau.de
SUMMARY:FW - Öffentlicher politischer Stammtisch
DESCRIPTION:20:00 Uhr
URL:https://berngau.de/veranstaltung/oeffentlicher-politischer-stammtisch/2026-03-02/
LOCATION:Gasthaus „Zum Leininger“\, Am Plan 5\, Berngau\, 92361\, Germany
CATEGORIES:Politik
ORGANIZER;CN="FW Freie W%C3%A4hler":MAILTO:info@fw-berngau.de
END:VEVENT
BEGIN:VEVENT
DTSTART;VALUE=DATE:20260202
DTEND;VALUE=DATE:20260203
DTSTAMP:20260424T203821
CREATED:20230323T100341Z
LAST-MODIFIED:20251203T153535Z
UID:10000847-1769990400-1770076799@berngau.de
SUMMARY:FW - Öffentlicher politischer Stammtisch
DESCRIPTION:20:00 Uhr
URL:https://berngau.de/veranstaltung/oeffentlicher-politischer-stammtisch/2026-02-02/
LOCATION:Gasthaus „Zum Leininger“\, Am Plan 5\, Berngau\, 92361\, Germany
CATEGORIES:Politik
ORGANIZER;CN="FW Freie W%C3%A4hler":MAILTO:info@fw-berngau.de
END:VEVENT
BEGIN:VEVENT
DTSTART;VALUE=DATE:20251201
DTEND;VALUE=DATE:20251202
DTSTAMP:20260424T203821
CREATED:20240105T081634Z
LAST-MODIFIED:20250304T103720Z
UID:10000728-1764576000-1764608400@berngau.de
SUMMARY:Öffentlicher politischer Stammtisch - FW Freie Wähler
DESCRIPTION:20:00 Uhr
URL:https://berngau.de/veranstaltung/oeffentlicher-politischer-stammtisch-fw-freie-waehler/2025-12-01/
LOCATION:Gasthaus „Zum Leininger“\, Am Plan 5\, Berngau\, 92361\, Germany
CATEGORIES:Politik,Veranstaltungen
ORGANIZER;CN="FW Freie W%C3%A4hler":MAILTO:info@fw-berngau.de
END:VEVENT
BEGIN:VEVENT
DTSTART;VALUE=DATE:20251103
DTEND;VALUE=DATE:20251104
DTSTAMP:20260424T203821
CREATED:20240105T081634Z
LAST-MODIFIED:20250304T103720Z
UID:10000727-1762156800-1762189200@berngau.de
SUMMARY:Öffentlicher politischer Stammtisch - FW Freie Wähler
DESCRIPTION:20:00 Uhr
URL:https://berngau.de/veranstaltung/oeffentlicher-politischer-stammtisch-fw-freie-waehler/2025-11-03/
LOCATION:Gasthaus „Zum Leininger“\, Am Plan 5\, Berngau\, 92361\, Germany
CATEGORIES:Politik,Veranstaltungen
ORGANIZER;CN="FW Freie W%C3%A4hler":MAILTO:info@fw-berngau.de
END:VEVENT
BEGIN:VEVENT
DTSTART;VALUE=DATE:20251006
DTEND;VALUE=DATE:20251007
DTSTAMP:20260424T203821
CREATED:20240105T081634Z
LAST-MODIFIED:20250304T103720Z
UID:10000726-1759737600-1759770000@berngau.de
SUMMARY:Öffentlicher politischer Stammtisch - FW Freie Wähler
DESCRIPTION:20:00 Uhr
URL:https://berngau.de/veranstaltung/oeffentlicher-politischer-stammtisch-fw-freie-waehler/2025-10-06/
LOCATION:Gasthaus „Zum Leininger“\, Am Plan 5\, Berngau\, 92361\, Germany
CATEGORIES:Politik,Veranstaltungen
ORGANIZER;CN="FW Freie W%C3%A4hler":MAILTO:info@fw-berngau.de
END:VEVENT
BEGIN:VEVENT
DTSTART;VALUE=DATE:20250602
DTEND;VALUE=DATE:20250603
DTSTAMP:20260424T203821
CREATED:20240105T081634Z
LAST-MODIFIED:20250304T103720Z
UID:10000725-1748851200-1748883600@berngau.de
SUMMARY:Öffentlicher politischer Stammtisch - FW Freie Wähler
DESCRIPTION:20:00 Uhr
URL:https://berngau.de/veranstaltung/oeffentlicher-politischer-stammtisch-fw-freie-waehler/2025-06-02/
LOCATION:Gasthaus „Zum Leininger“\, Am Plan 5\, Berngau\, 92361\, Germany
CATEGORIES:Politik,Veranstaltungen
ORGANIZER;CN="FW Freie W%C3%A4hler":MAILTO:info@fw-berngau.de
END:VEVENT
BEGIN:VEVENT
DTSTART;VALUE=DATE:20250505
DTEND;VALUE=DATE:20250506
DTSTAMP:20260424T203821
CREATED:20240105T081634Z
LAST-MODIFIED:20250304T103720Z
UID:10000724-1746432000-1746464400@berngau.de
SUMMARY:Öffentlicher politischer Stammtisch - FW Freie Wähler
DESCRIPTION:20:00 Uhr
URL:https://berngau.de/veranstaltung/oeffentlicher-politischer-stammtisch-fw-freie-waehler/2025-05-05/
LOCATION:Gasthaus „Zum Leininger“\, Am Plan 5\, Berngau\, 92361\, Germany
CATEGORIES:Politik,Veranstaltungen
ORGANIZER;CN="FW Freie W%C3%A4hler":MAILTO:info@fw-berngau.de
END:VEVENT
BEGIN:VEVENT
DTSTART;VALUE=DATE:20250407
DTEND;VALUE=DATE:20250408
DTSTAMP:20260424T203821
CREATED:20240105T081634Z
LAST-MODIFIED:20250304T103720Z
UID:10000723-1744012800-1744045200@berngau.de
SUMMARY:Öffentlicher politischer Stammtisch - FW Freie Wähler
DESCRIPTION:20:00 Uhr
URL:https://berngau.de/veranstaltung/oeffentlicher-politischer-stammtisch-fw-freie-waehler/2025-04-07/
LOCATION:Gasthaus „Zum Leininger“\, Am Plan 5\, Berngau\, 92361\, Germany
CATEGORIES:Politik,Veranstaltungen
ORGANIZER;CN="FW Freie W%C3%A4hler":MAILTO:info@fw-berngau.de
END:VEVENT
BEGIN:VEVENT
DTSTART;VALUE=DATE:20250303
DTEND;VALUE=DATE:20250304
DTSTAMP:20260424T203821
CREATED:20240105T081634Z
LAST-MODIFIED:20250304T103720Z
UID:10000729-1740960000-1741046399@berngau.de
SUMMARY:Öffentlicher politischer Stammtisch - FW Freie Wähler
DESCRIPTION:20:00 Uhr
URL:https://berngau.de/veranstaltung/oeffentlicher-politischer-stammtisch-fw-freie-waehler/2025-03-03/
LOCATION:Gasthaus „Zum Leininger“\, Am Plan 5\, Berngau\, 92361\, Germany
CATEGORIES:Politik,Veranstaltungen
ORGANIZER;CN="FW Freie W%C3%A4hler":MAILTO:info@fw-berngau.de
END:VEVENT
END:VCALENDAR