BEGIN:VCALENDAR
VERSION:2.0
PRODID:-//Gemeinde Berngau - ECPv6.15.18//NONSGML v1.0//EN
CALSCALE:GREGORIAN
METHOD:PUBLISH
X-ORIGINAL-URL:https://berngau.de
X-WR-CALDESC:Veranstaltungen für Gemeinde Berngau
REFRESH-INTERVAL;VALUE=DURATION:PT1H
X-Robots-Tag:noindex
X-PUBLISHED-TTL:PT1H
BEGIN:VTIMEZONE
TZID:Europe/Berlin
BEGIN:DAYLIGHT
TZOFFSETFROM:+0100
TZOFFSETTO:+0200
TZNAME:CEST
DTSTART:20250330T010000
END:DAYLIGHT
BEGIN:STANDARD
TZOFFSETFROM:+0200
TZOFFSETTO:+0100
TZNAME:CET
DTSTART:20251026T010000
END:STANDARD
BEGIN:DAYLIGHT
TZOFFSETFROM:+0100
TZOFFSETTO:+0200
TZNAME:CEST
DTSTART:20260329T010000
END:DAYLIGHT
BEGIN:STANDARD
TZOFFSETFROM:+0200
TZOFFSETTO:+0100
TZNAME:CET
DTSTART:20261025T010000
END:STANDARD
BEGIN:DAYLIGHT
TZOFFSETFROM:+0100
TZOFFSETTO:+0200
TZNAME:CEST
DTSTART:20270328T010000
END:DAYLIGHT
BEGIN:STANDARD
TZOFFSETFROM:+0200
TZOFFSETTO:+0100
TZNAME:CET
DTSTART:20271031T010000
END:STANDARD
BEGIN:DAYLIGHT
TZOFFSETFROM:+0100
TZOFFSETTO:+0200
TZNAME:CEST
DTSTART:20280326T010000
END:DAYLIGHT
BEGIN:STANDARD
TZOFFSETFROM:+0200
TZOFFSETTO:+0100
TZNAME:CET
DTSTART:20281029T010000
END:STANDARD
END:VTIMEZONE
BEGIN:VEVENT
DTSTART;VALUE=DATE:20261005
DTEND;VALUE=DATE:20261006
DTSTAMP:20260424T190956
CREATED:20230323T100341Z
LAST-MODIFIED:20251203T153535Z
UID:10000849-1791223200-1791237600@berngau.de
SUMMARY:FW - Öffentlicher politischer Stammtisch
DESCRIPTION:20:00 Uhr
URL:https://berngau.de/veranstaltung/oeffentlicher-politischer-stammtisch/2026-10-05/
LOCATION:Gasthaus „Zum Leininger“\, Am Plan 5\, Berngau\, 92361\, Germany
CATEGORIES:Politik
ORGANIZER;CN="FW Freie W%C3%A4hler":MAILTO:info@fw-berngau.de
END:VEVENT
BEGIN:VEVENT
DTSTART;VALUE=DATE:20261102
DTEND;VALUE=DATE:20261103
DTSTAMP:20260424T190956
CREATED:20230323T100341Z
LAST-MODIFIED:20251203T153535Z
UID:10000850-1793642400-1793656800@berngau.de
SUMMARY:FW - Öffentlicher politischer Stammtisch
DESCRIPTION:20:00 Uhr
URL:https://berngau.de/veranstaltung/oeffentlicher-politischer-stammtisch/2026-11-02/
LOCATION:Gasthaus „Zum Leininger“\, Am Plan 5\, Berngau\, 92361\, Germany
CATEGORIES:Politik
ORGANIZER;CN="FW Freie W%C3%A4hler":MAILTO:info@fw-berngau.de
END:VEVENT
BEGIN:VEVENT
DTSTART;VALUE=DATE:20261128
DTEND;VALUE=DATE:20261129
DTSTAMP:20260424T190956
CREATED:20230419T083830Z
LAST-MODIFIED:20251208T092335Z
UID:10000511-1795824000-1795910399@berngau.de
SUMMARY:Weihnachtsfeier - FW Freie Wähler
DESCRIPTION:19:00 Uhr
URL:https://berngau.de/veranstaltung/weihnachtsfeier-fw-freie-waehler/
LOCATION:Sportheim Berngau\, Sportheimstraße 1\, Berngau\, Bayern\, 92361\, Germany
CATEGORIES:Politik,Veranstaltungen
ORGANIZER;CN="FW Freie W%C3%A4hler":MAILTO:info@fw-berngau.de
END:VEVENT
BEGIN:VEVENT
DTSTART;VALUE=DATE:20270201
DTEND;VALUE=DATE:20270202
DTSTAMP:20260424T190956
CREATED:20230323T100341Z
LAST-MODIFIED:20251203T153535Z
UID:10000851-1801504800-1801519200@berngau.de
SUMMARY:FW - Öffentlicher politischer Stammtisch
DESCRIPTION:20:00 Uhr
URL:https://berngau.de/veranstaltung/oeffentlicher-politischer-stammtisch/2027-02-01/
LOCATION:Gasthaus „Zum Leininger“\, Am Plan 5\, Berngau\, 92361\, Germany
CATEGORIES:Politik
ORGANIZER;CN="FW Freie W%C3%A4hler":MAILTO:info@fw-berngau.de
END:VEVENT
BEGIN:VEVENT
DTSTART;VALUE=DATE:20270301
DTEND;VALUE=DATE:20270302
DTSTAMP:20260424T190956
CREATED:20230323T100341Z
LAST-MODIFIED:20251203T153535Z
UID:10000852-1803924000-1803938400@berngau.de
SUMMARY:FW - Öffentlicher politischer Stammtisch
DESCRIPTION:20:00 Uhr
URL:https://berngau.de/veranstaltung/oeffentlicher-politischer-stammtisch/2027-03-01/
LOCATION:Gasthaus „Zum Leininger“\, Am Plan 5\, Berngau\, 92361\, Germany
CATEGORIES:Politik
ORGANIZER;CN="FW Freie W%C3%A4hler":MAILTO:info@fw-berngau.de
END:VEVENT
BEGIN:VEVENT
DTSTART;VALUE=DATE:20270319
DTEND;VALUE=DATE:20270320
DTSTAMP:20260424T190956
CREATED:20240105T090745Z
LAST-MODIFIED:20251208T101700Z
UID:10000929-1805443200-1805475600@berngau.de
SUMMARY:Jahreshauptversammlung - FW Freie Wähler
DESCRIPTION:19:30 Uhr
URL:https://berngau.de/veranstaltung/jahreshauptversammlung-fw-freie-waehler/2027-03-19/
LOCATION:Sportheim Berngau\, Sportheimstraße 1\, Berngau\, Bayern\, 92361\, Germany
CATEGORIES:Politik,Veranstaltungen
ORGANIZER;CN="FW Freie W%C3%A4hler":MAILTO:info@fw-berngau.de
END:VEVENT
END:VCALENDAR