BEGIN:VCALENDAR
VERSION:2.0
PRODID:-//Gemeinde Berngau - ECPv6.15.18//NONSGML v1.0//EN
CALSCALE:GREGORIAN
METHOD:PUBLISH
X-WR-CALNAME:Gemeinde Berngau
X-ORIGINAL-URL:https://berngau.de
X-WR-CALDESC:Veranstaltungen für Gemeinde Berngau
REFRESH-INTERVAL;VALUE=DURATION:PT1H
X-Robots-Tag:noindex
X-PUBLISHED-TTL:PT1H
BEGIN:VTIMEZONE
TZID:Europe/Berlin
BEGIN:DAYLIGHT
TZOFFSETFROM:+0100
TZOFFSETTO:+0200
TZNAME:CEST
DTSTART:20240331T010000
END:DAYLIGHT
BEGIN:STANDARD
TZOFFSETFROM:+0200
TZOFFSETTO:+0100
TZNAME:CET
DTSTART:20241027T010000
END:STANDARD
BEGIN:DAYLIGHT
TZOFFSETFROM:+0100
TZOFFSETTO:+0200
TZNAME:CEST
DTSTART:20250330T010000
END:DAYLIGHT
BEGIN:STANDARD
TZOFFSETFROM:+0200
TZOFFSETTO:+0100
TZNAME:CET
DTSTART:20251026T010000
END:STANDARD
BEGIN:DAYLIGHT
TZOFFSETFROM:+0100
TZOFFSETTO:+0200
TZNAME:CEST
DTSTART:20260329T010000
END:DAYLIGHT
BEGIN:STANDARD
TZOFFSETFROM:+0200
TZOFFSETTO:+0100
TZNAME:CET
DTSTART:20261025T010000
END:STANDARD
END:VTIMEZONE
BEGIN:VEVENT
DTSTART;VALUE=DATE:20250407
DTEND;VALUE=DATE:20250408
DTSTAMP:20260424T220125
CREATED:20240105T081634Z
LAST-MODIFIED:20250304T103720Z
UID:10000723-1744012800-1744045200@berngau.de
SUMMARY:Öffentlicher politischer Stammtisch - FW Freie Wähler
DESCRIPTION:20:00 Uhr
URL:https://berngau.de/veranstaltung/oeffentlicher-politischer-stammtisch-fw-freie-waehler/2025-04-07/
LOCATION:Gasthaus „Zum Leininger“\, Am Plan 5\, Berngau\, 92361\, Germany
CATEGORIES:Politik,Veranstaltungen
ORGANIZER;CN="FW Freie W%C3%A4hler":MAILTO:info@fw-berngau.de
END:VEVENT
BEGIN:VEVENT
DTSTART;VALUE=DATE:20250303
DTEND;VALUE=DATE:20250304
DTSTAMP:20260424T220125
CREATED:20240105T081634Z
LAST-MODIFIED:20250304T103720Z
UID:10000729-1740960000-1741046399@berngau.de
SUMMARY:Öffentlicher politischer Stammtisch - FW Freie Wähler
DESCRIPTION:20:00 Uhr
URL:https://berngau.de/veranstaltung/oeffentlicher-politischer-stammtisch-fw-freie-waehler/2025-03-03/
LOCATION:Gasthaus „Zum Leininger“\, Am Plan 5\, Berngau\, 92361\, Germany
CATEGORIES:Politik,Veranstaltungen
ORGANIZER;CN="FW Freie W%C3%A4hler":MAILTO:info@fw-berngau.de
END:VEVENT
END:VCALENDAR