BEGIN:VCALENDAR
VERSION:2.0
PRODID:-//Gemeinde Berngau - ECPv6.15.18//NONSGML v1.0//EN
CALSCALE:GREGORIAN
METHOD:PUBLISH
X-WR-CALNAME:Gemeinde Berngau
X-ORIGINAL-URL:https://berngau.de
X-WR-CALDESC:Veranstaltungen für Gemeinde Berngau
REFRESH-INTERVAL;VALUE=DURATION:PT1H
X-Robots-Tag:noindex
X-PUBLISHED-TTL:PT1H
BEGIN:VTIMEZONE
TZID:Europe/Berlin
BEGIN:DAYLIGHT
TZOFFSETFROM:+0100
TZOFFSETTO:+0200
TZNAME:CEST
DTSTART:20250330T010000
END:DAYLIGHT
BEGIN:STANDARD
TZOFFSETFROM:+0200
TZOFFSETTO:+0100
TZNAME:CET
DTSTART:20251026T010000
END:STANDARD
BEGIN:DAYLIGHT
TZOFFSETFROM:+0100
TZOFFSETTO:+0200
TZNAME:CEST
DTSTART:20260329T010000
END:DAYLIGHT
BEGIN:STANDARD
TZOFFSETFROM:+0200
TZOFFSETTO:+0100
TZNAME:CET
DTSTART:20261025T010000
END:STANDARD
BEGIN:DAYLIGHT
TZOFFSETFROM:+0100
TZOFFSETTO:+0200
TZNAME:CEST
DTSTART:20270328T010000
END:DAYLIGHT
BEGIN:STANDARD
TZOFFSETFROM:+0200
TZOFFSETTO:+0100
TZNAME:CET
DTSTART:20271031T010000
END:STANDARD
END:VTIMEZONE
BEGIN:VEVENT
DTSTART;TZID=Europe/Berlin:20260923T190000
DTEND;TZID=Europe/Berlin:20260923T210000
DTSTAMP:20260424T174106
CREATED:20260423T071310Z
LAST-MODIFIED:20260423T071310Z
UID:10000955-1790190000-1790197200@berngau.de
SUMMARY:Gemeinderatssitzung
DESCRIPTION:
URL:https://berngau.de/veranstaltung/gemeinderatssitzung/2026-09-23/
LOCATION:Kulturspeicher\, Tyrolsberger Straße 5\, Berngau\, Bayern\, 92361\, Germany
CATEGORIES:Alte Knabenschule Berngau
END:VEVENT
BEGIN:VEVENT
DTSTART;TZID=Europe/Berlin:20261017T130000
DTEND;TZID=Europe/Berlin:20261017T150000
DTSTAMP:20260424T174106
CREATED:20260423T071618Z
LAST-MODIFIED:20260423T071618Z
UID:10000959-1792242000-1792249200@berngau.de
SUMMARY:Trauung
DESCRIPTION:
URL:https://berngau.de/veranstaltung/trauung-6/
LOCATION:Kulturspeicher\, Tyrolsberger Straße 5\, Berngau\, Bayern\, 92361\, Germany
CATEGORIES:Alte Knabenschule Berngau
END:VEVENT
BEGIN:VEVENT
DTSTART;TZID=Europe/Berlin:20261021T190000
DTEND;TZID=Europe/Berlin:20261021T210000
DTSTAMP:20260424T174106
CREATED:20260423T071310Z
LAST-MODIFIED:20260423T071310Z
UID:10000956-1792609200-1792616400@berngau.de
SUMMARY:Gemeinderatssitzung
DESCRIPTION:
URL:https://berngau.de/veranstaltung/gemeinderatssitzung/2026-10-21/
LOCATION:Kulturspeicher\, Tyrolsberger Straße 5\, Berngau\, Bayern\, 92361\, Germany
CATEGORIES:Alte Knabenschule Berngau
END:VEVENT
BEGIN:VEVENT
DTSTART;VALUE=DATE:20261104
DTEND;VALUE=DATE:20261105
DTSTAMP:20260424T174106
CREATED:20230417T074259Z
LAST-MODIFIED:20251208T091312Z
UID:10000498-1793750400-1793836799@berngau.de
SUMMARY:BÜRGERVERSAMMLUNG Röckersbühl
DESCRIPTION:  \nBeginn: 19:00 Uhr
URL:https://berngau.de/veranstaltung/buergerversammlung-roeckersbuehl/
LOCATION:Schützenhaus Röckersbühl
CATEGORIES:Gemeinde,Veranstaltungen
END:VEVENT
BEGIN:VEVENT
DTSTART;VALUE=DATE:20261113
DTEND;VALUE=DATE:20261114
DTSTAMP:20260424T174106
CREATED:20230417T075424Z
LAST-MODIFIED:20251208T091815Z
UID:10000500-1794528000-1794614399@berngau.de
SUMMARY:BÜRGERVERSAMMLUNG Tyrolsberg
DESCRIPTION:Beginn: 19:00 Uhr
URL:https://berngau.de/veranstaltung/buergerversammlung-tyrolsberg/
LOCATION:Sportheim Berngau\, Sportheimstraße 1\, Berngau\, Bayern\, 92361\, Germany
CATEGORIES:Gemeinde,Veranstaltungen
END:VEVENT
BEGIN:VEVENT
DTSTART;TZID=Europe/Berlin:20261118T190000
DTEND;TZID=Europe/Berlin:20261118T210000
DTSTAMP:20260424T174106
CREATED:20260423T071310Z
LAST-MODIFIED:20260423T071310Z
UID:10000957-1795028400-1795035600@berngau.de
SUMMARY:Gemeinderatssitzung
DESCRIPTION:
URL:https://berngau.de/veranstaltung/gemeinderatssitzung/2026-11-18/
LOCATION:Kulturspeicher\, Tyrolsberger Straße 5\, Berngau\, Bayern\, 92361\, Germany
CATEGORIES:Alte Knabenschule Berngau
END:VEVENT
BEGIN:VEVENT
DTSTART;VALUE=DATE:20261125
DTEND;VALUE=DATE:20261126
DTSTAMP:20260424T174106
CREATED:20230417T083208Z
LAST-MODIFIED:20251208T092216Z
UID:10000506-1795564800-1795651199@berngau.de
SUMMARY:BÜRGERVERSAMMLUNG Berngau
DESCRIPTION:Beginn: 19:00 Uhr
URL:https://berngau.de/veranstaltung/buergerversammlung-berngau/
LOCATION:Berngauer Hof\, Neumarkter Str. 20\, Berngau\, Bayern\, 92361\, Germany
CATEGORIES:Gemeinde,Veranstaltungen
END:VEVENT
BEGIN:VEVENT
DTSTART;TZID=Europe/Berlin:20261216T190000
DTEND;TZID=Europe/Berlin:20261216T210000
DTSTAMP:20260424T174106
CREATED:20260423T071310Z
LAST-MODIFIED:20260423T071310Z
UID:10000958-1797447600-1797454800@berngau.de
SUMMARY:Gemeinderatssitzung
DESCRIPTION:
URL:https://berngau.de/veranstaltung/gemeinderatssitzung/2026-12-16/
LOCATION:Kulturspeicher\, Tyrolsberger Straße 5\, Berngau\, Bayern\, 92361\, Germany
CATEGORIES:Alte Knabenschule Berngau
END:VEVENT
END:VCALENDAR