BEGIN:VCALENDAR
VERSION:2.0
PRODID:-//Gemeinde Berngau - ECPv6.15.18//NONSGML v1.0//EN
CALSCALE:GREGORIAN
METHOD:PUBLISH
X-WR-CALNAME:Gemeinde Berngau
X-ORIGINAL-URL:https://berngau.de
X-WR-CALDESC:Veranstaltungen für Gemeinde Berngau
REFRESH-INTERVAL;VALUE=DURATION:PT1H
X-Robots-Tag:noindex
X-PUBLISHED-TTL:PT1H
BEGIN:VTIMEZONE
TZID:Europe/Berlin
BEGIN:DAYLIGHT
TZOFFSETFROM:+0100
TZOFFSETTO:+0200
TZNAME:CEST
DTSTART:20250330T010000
END:DAYLIGHT
BEGIN:STANDARD
TZOFFSETFROM:+0200
TZOFFSETTO:+0100
TZNAME:CET
DTSTART:20251026T010000
END:STANDARD
BEGIN:DAYLIGHT
TZOFFSETFROM:+0100
TZOFFSETTO:+0200
TZNAME:CEST
DTSTART:20260329T010000
END:DAYLIGHT
BEGIN:STANDARD
TZOFFSETFROM:+0200
TZOFFSETTO:+0100
TZNAME:CET
DTSTART:20261025T010000
END:STANDARD
BEGIN:DAYLIGHT
TZOFFSETFROM:+0100
TZOFFSETTO:+0200
TZNAME:CEST
DTSTART:20270328T010000
END:DAYLIGHT
BEGIN:STANDARD
TZOFFSETFROM:+0200
TZOFFSETTO:+0100
TZNAME:CET
DTSTART:20271031T010000
END:STANDARD
END:VTIMEZONE
BEGIN:VEVENT
DTSTART;VALUE=DATE:20260512
DTEND;VALUE=DATE:20260513
DTSTAMP:20260421T225848
CREATED:20250305T100024Z
LAST-MODIFIED:20251203T153022Z
UID:10000842-1778572800-1778605200@berngau.de
SUMMARY:Gemeindenachmittag - Nachbarschaftshilfe Berngau
DESCRIPTION:14:30 Uhr
URL:https://berngau.de/veranstaltung/gemeindenachmittag-nachbarschaftshilfe-berngau-2/2026-05-12/
LOCATION:Pfarrheim Berngau\, Ramoldplatz 5\, Berngau\, Bayern\, 92361\, Germany
END:VEVENT
BEGIN:VEVENT
DTSTART;VALUE=DATE:20260609
DTEND;VALUE=DATE:20260610
DTSTAMP:20260421T225848
CREATED:20250305T100024Z
LAST-MODIFIED:20251203T153022Z
UID:10000843-1780992000-1781024400@berngau.de
SUMMARY:Gemeindenachmittag - Nachbarschaftshilfe Berngau
DESCRIPTION:14:30 Uhr
URL:https://berngau.de/veranstaltung/gemeindenachmittag-nachbarschaftshilfe-berngau-2/2026-06-09/
LOCATION:Pfarrheim Berngau\, Ramoldplatz 5\, Berngau\, Bayern\, 92361\, Germany
END:VEVENT
BEGIN:VEVENT
DTSTART;VALUE=DATE:20260908
DTEND;VALUE=DATE:20260909
DTSTAMP:20260421T225848
CREATED:20250305T100024Z
LAST-MODIFIED:20251203T153022Z
UID:10000844-1788854400-1788886800@berngau.de
SUMMARY:Gemeindenachmittag - Nachbarschaftshilfe Berngau
DESCRIPTION:14:30 Uhr
URL:https://berngau.de/veranstaltung/gemeindenachmittag-nachbarschaftshilfe-berngau-2/2026-09-08/
LOCATION:Pfarrheim Berngau\, Ramoldplatz 5\, Berngau\, Bayern\, 92361\, Germany
END:VEVENT
BEGIN:VEVENT
DTSTART;VALUE=DATE:20261013
DTEND;VALUE=DATE:20261014
DTSTAMP:20260421T225848
CREATED:20250305T100024Z
LAST-MODIFIED:20251203T153022Z
UID:10000845-1791878400-1791910800@berngau.de
SUMMARY:Gemeindenachmittag - Nachbarschaftshilfe Berngau
DESCRIPTION:14:30 Uhr
URL:https://berngau.de/veranstaltung/gemeindenachmittag-nachbarschaftshilfe-berngau-2/2026-10-13/
LOCATION:Pfarrheim Berngau\, Ramoldplatz 5\, Berngau\, Bayern\, 92361\, Germany
END:VEVENT
BEGIN:VEVENT
DTSTART;VALUE=DATE:20261110
DTEND;VALUE=DATE:20261111
DTSTAMP:20260421T225848
CREATED:20250305T100024Z
LAST-MODIFIED:20251203T153022Z
UID:10000846-1794297600-1794330000@berngau.de
SUMMARY:Gemeindenachmittag - Nachbarschaftshilfe Berngau
DESCRIPTION:14:30 Uhr
URL:https://berngau.de/veranstaltung/gemeindenachmittag-nachbarschaftshilfe-berngau-2/2026-11-10/
LOCATION:Pfarrheim Berngau\, Ramoldplatz 5\, Berngau\, Bayern\, 92361\, Germany
END:VEVENT
END:VCALENDAR