BEGIN:VCALENDAR
VERSION:2.0
PRODID:-//Gemeinde Berngau - ECPv6.15.18//NONSGML v1.0//EN
CALSCALE:GREGORIAN
METHOD:PUBLISH
X-ORIGINAL-URL:https://berngau.de
X-WR-CALDESC:Veranstaltungen für Gemeinde Berngau
REFRESH-INTERVAL;VALUE=DURATION:PT1H
X-Robots-Tag:noindex
X-PUBLISHED-TTL:PT1H
BEGIN:VTIMEZONE
TZID:Europe/Berlin
BEGIN:DAYLIGHT
TZOFFSETFROM:+0100
TZOFFSETTO:+0200
TZNAME:CEST
DTSTART:20250330T010000
END:DAYLIGHT
BEGIN:STANDARD
TZOFFSETFROM:+0200
TZOFFSETTO:+0100
TZNAME:CET
DTSTART:20251026T010000
END:STANDARD
BEGIN:DAYLIGHT
TZOFFSETFROM:+0100
TZOFFSETTO:+0200
TZNAME:CEST
DTSTART:20260329T010000
END:DAYLIGHT
BEGIN:STANDARD
TZOFFSETFROM:+0200
TZOFFSETTO:+0100
TZNAME:CET
DTSTART:20261025T010000
END:STANDARD
BEGIN:DAYLIGHT
TZOFFSETFROM:+0100
TZOFFSETTO:+0200
TZNAME:CEST
DTSTART:20270328T010000
END:DAYLIGHT
BEGIN:STANDARD
TZOFFSETFROM:+0200
TZOFFSETTO:+0100
TZNAME:CET
DTSTART:20271031T010000
END:STANDARD
END:VTIMEZONE
BEGIN:VEVENT
DTSTART;VALUE=DATE:20260320
DTEND;VALUE=DATE:20260328
DTSTAMP:20260421T225121
CREATED:20251204T141132Z
LAST-MODIFIED:20251204T141132Z
UID:10000885-1773964800-1774655999@berngau.de
SUMMARY:Nachtausleihe - Bücherei Berngau
DESCRIPTION:14:00 Uhr
URL:https://berngau.de/veranstaltung/nachtausleihe-buecherei-berngau/
LOCATION:Bücherei\, Ramoldplatz 6\, Berngau\, Bayern\, 92361\, Germany
END:VEVENT
BEGIN:VEVENT
DTSTART;VALUE=DATE:20260327
DTEND;VALUE=DATE:20260328
DTSTAMP:20260421T225121
CREATED:20240105T090745Z
LAST-MODIFIED:20251208T101700Z
UID:10000583-1774569600-1774655999@berngau.de
SUMMARY:Jahreshauptversammlung - FW Freie Wähler
DESCRIPTION:19:30 Uhr
URL:https://berngau.de/veranstaltung/jahreshauptversammlung-fw-freie-waehler/2026-03-27/
LOCATION:Sportheim Berngau\, Sportheimstraße 1\, Berngau\, Bayern\, 92361\, Germany
CATEGORIES:Politik,Veranstaltungen
ORGANIZER;CN="FW Freie W%C3%A4hler":MAILTO:info@fw-berngau.de
END:VEVENT
BEGIN:VEVENT
DTSTART;VALUE=DATE:20260327
DTEND;VALUE=DATE:20260328
DTSTAMP:20260421T225121
CREATED:20250508T153654Z
LAST-MODIFIED:20251204T152423Z
UID:10000886-1774569600-1774655999@berngau.de
SUMMARY:Dorfkino
DESCRIPTION:
URL:https://berngau.de/veranstaltung/dorfkino-12/2026-03-27/
LOCATION:Kulturspeicher\, Tyrolsberger Straße 5\, Berngau\, Bayern\, 92361\, Germany
CATEGORIES:Alte Knabenschule Berngau
END:VEVENT
BEGIN:VEVENT
DTSTART;VALUE=DATE:20260327
DTEND;VALUE=DATE:20260328
DTSTAMP:20260421T225121
CREATED:20260210T124719Z
LAST-MODIFIED:20260210T124719Z
UID:10000939-1774569600-1774655999@berngau.de
SUMMARY:Dorfkino
DESCRIPTION:
URL:https://berngau.de/veranstaltung/dorfkino/
LOCATION:Kulturspeicher\, Tyrolsberger Straße 5\, Berngau\, Bayern\, 92361\, Germany
CATEGORIES:Alte Knabenschule Berngau
END:VEVENT
END:VCALENDAR