BEGIN:VCALENDAR
VERSION:2.0
PRODID:-//Gemeinde Berngau - ECPv6.15.18//NONSGML v1.0//EN
CALSCALE:GREGORIAN
METHOD:PUBLISH
X-ORIGINAL-URL:https://berngau.de
X-WR-CALDESC:Veranstaltungen für Gemeinde Berngau
REFRESH-INTERVAL;VALUE=DURATION:PT1H
X-Robots-Tag:noindex
X-PUBLISHED-TTL:PT1H
BEGIN:VTIMEZONE
TZID:Europe/Berlin
BEGIN:DAYLIGHT
TZOFFSETFROM:+0100
TZOFFSETTO:+0200
TZNAME:CEST
DTSTART:20240331T010000
END:DAYLIGHT
BEGIN:STANDARD
TZOFFSETFROM:+0200
TZOFFSETTO:+0100
TZNAME:CET
DTSTART:20241027T010000
END:STANDARD
BEGIN:DAYLIGHT
TZOFFSETFROM:+0100
TZOFFSETTO:+0200
TZNAME:CEST
DTSTART:20250330T010000
END:DAYLIGHT
BEGIN:STANDARD
TZOFFSETFROM:+0200
TZOFFSETTO:+0100
TZNAME:CET
DTSTART:20251026T010000
END:STANDARD
BEGIN:DAYLIGHT
TZOFFSETFROM:+0100
TZOFFSETTO:+0200
TZNAME:CEST
DTSTART:20260329T010000
END:DAYLIGHT
BEGIN:STANDARD
TZOFFSETFROM:+0200
TZOFFSETTO:+0100
TZNAME:CET
DTSTART:20261025T010000
END:STANDARD
END:VTIMEZONE
BEGIN:VEVENT
DTSTART;TZID=Europe/Berlin:20250816T113000
DTEND;TZID=Europe/Berlin:20250816T113000
DTSTAMP:20260424T203534
CREATED:20250324T120526Z
LAST-MODIFIED:20250324T120526Z
UID:10000790-1755343800-1755343800@berngau.de
SUMMARY:Trauung
DESCRIPTION:
URL:https://berngau.de/veranstaltung/trauung/
LOCATION:Alte Knabenschule
CATEGORIES:Alte Knabenschule Berngau
END:VEVENT
BEGIN:VEVENT
DTSTART;TZID=Europe/Berlin:20250712T103000
DTEND;TZID=Europe/Berlin:20250712T113000
DTSTAMP:20260424T203534
CREATED:20250303T102920Z
LAST-MODIFIED:20250303T102920Z
UID:10000722-1752316200-1752319800@berngau.de
SUMMARY:Trauung (DG)
DESCRIPTION:
URL:https://berngau.de/veranstaltung/trauung-dg-2/
LOCATION:Alte Knabenschule
CATEGORIES:Alte Knabenschule Berngau
END:VEVENT
BEGIN:VEVENT
DTSTART;TZID=Europe/Berlin:20250626T080000
DTEND;TZID=Europe/Berlin:20250626T170000
DTSTAMP:20260424T203534
CREATED:20250203T151100Z
LAST-MODIFIED:20250319T110120Z
UID:10000788-1750924800-1750957200@berngau.de
SUMMARY:Dorfkino
DESCRIPTION:Ansprechpartnerin: Christine Brönner \nKinobestuhlung zum Bildschirm \nca. 40TN
URL:https://berngau.de/veranstaltung/dorfkino-11/2025-06-26/
LOCATION:Alte Knabenschule
CATEGORIES:Alte Knabenschule Berngau,Veranstaltungen
END:VEVENT
BEGIN:VEVENT
DTSTART;TZID=Europe/Berlin:20250410T180000
DTEND;TZID=Europe/Berlin:20250410T200000
DTSTAMP:20260424T203534
CREATED:20250226T131256Z
LAST-MODIFIED:20250226T131256Z
UID:10000720-1744308000-1744315200@berngau.de
SUMMARY:Planungstreffen Ferienprogramm
DESCRIPTION:Plangungstreffen FP 2025 \nKulturspeicher \nKonferenzbestuhlung \nAnsprechpartnerin: Christine Brönner
URL:https://berngau.de/veranstaltung/planungstreffen-ferienprogramm/
LOCATION:Alte Knabenschule
CATEGORIES:Alte Knabenschule Berngau
END:VEVENT
BEGIN:VEVENT
DTSTART;TZID=Europe/Berlin:20250327T140000
DTEND;TZID=Europe/Berlin:20250327T183000
DTSTAMP:20260424T203534
CREATED:20250203T151100Z
LAST-MODIFIED:20250319T110120Z
UID:10000716-1743084000-1743100200@berngau.de
SUMMARY:Dorfkino
DESCRIPTION:Ansprechpartnerin: Christine Brönner \nKinobestuhlung zum Bildschirm \nca. 40TN
URL:https://berngau.de/veranstaltung/dorfkino-11/2025-03-27/
LOCATION:Alte Knabenschule
CATEGORIES:Alte Knabenschule Berngau,Veranstaltungen
END:VEVENT
END:VCALENDAR